BEGIN:VCALENDAR
VERSION:2.0
PRODID:-//eventon.com NONSGML v1.0//EN
CALSCALE:GREGORIAN
METHOD:PUBLISH
BEGIN:VEVENT
UID:69eac311a31ca
DTSTAMP:20260424T011041Z
DTSTART:20261006
DTEND:20261007
LOCATION:
SUMMARY:Heat Exchanger World AMERICAS
DESCRIPTION:The Heat Exchanger World Americas Conference and Expo welcomes 
 end users\,  manufacturers and other members of the heat transfer supply ch
 ain to share industry knowledge and expertise to Hyatt Regency Baytown\,  U
 SA on October 06 &amp; 07\,  2026. Serving as the meeting point for the hea
 t transfer industry\,  professionals will[..]\nhttps://greth.fr/en/events/h
 eat-exchanger-world-americas/
URL:https://greth.fr/en/events/heat-exchanger-world-americas/
END:VEVENT
END:VCALENDAR